BEGIN:VCALENDAR
VERSION:2.0
PRODID:-//Schule am Teltowkanal - ECPv6.15.18//NONSGML v1.0//EN
CALSCALE:GREGORIAN
METHOD:PUBLISH
X-WR-CALNAME:Schule am Teltowkanal
X-ORIGINAL-URL:https://schule-am-teltowkanal.de
X-WR-CALDESC:Veranstaltungen für Schule am Teltowkanal
REFRESH-INTERVAL;VALUE=DURATION:PT1H
X-Robots-Tag:noindex
X-PUBLISHED-TTL:PT1H
BEGIN:VTIMEZONE
TZID:Europe/Helsinki
BEGIN:DAYLIGHT
TZOFFSETFROM:+0200
TZOFFSETTO:+0300
TZNAME:EEST
DTSTART:20250330T010000
END:DAYLIGHT
BEGIN:STANDARD
TZOFFSETFROM:+0300
TZOFFSETTO:+0200
TZNAME:EET
DTSTART:20251026T010000
END:STANDARD
BEGIN:DAYLIGHT
TZOFFSETFROM:+0200
TZOFFSETTO:+0300
TZNAME:EEST
DTSTART:20260329T010000
END:DAYLIGHT
BEGIN:STANDARD
TZOFFSETFROM:+0300
TZOFFSETTO:+0200
TZNAME:EET
DTSTART:20261025T010000
END:STANDARD
BEGIN:DAYLIGHT
TZOFFSETFROM:+0200
TZOFFSETTO:+0300
TZNAME:EEST
DTSTART:20270328T010000
END:DAYLIGHT
BEGIN:STANDARD
TZOFFSETFROM:+0300
TZOFFSETTO:+0200
TZNAME:EET
DTSTART:20271031T010000
END:STANDARD
END:VTIMEZONE
BEGIN:VEVENT
DTSTART;TZID=Europe/Helsinki:20260423T130000
DTEND;TZID=Europe/Helsinki:20260423T150000
DTSTAMP:20260423T023128
CREATED:20260312T152037Z
LAST-MODIFIED:20260312T152037Z
UID:8312-1776949200-1776956400@schule-am-teltowkanal.de
SUMMARY:Sprechstunde Stadtteilmütter – Türkisch
DESCRIPTION:Unsere Sprechstunde für Erziehungsberechtigte und pädagogisches Personal bei Türkan Gülsen für Türkisch. Gerne mit Anmeldung vorab bei der Schulsozialarbeit. Raum J006 (Verwaltungsgebäude).
URL:https://schule-am-teltowkanal.de/veranstaltungen/sprechstunde-stadtteilmuetter-tuerkisch-8/
CATEGORIES:Stadtteilmütter
END:VEVENT
END:VCALENDAR