BEGIN:VCALENDAR
VERSION:2.0
PRODID:-//Schule am Teltowkanal - ECPv6.15.18//NONSGML v1.0//EN
CALSCALE:GREGORIAN
METHOD:PUBLISH
X-WR-CALNAME:Schule am Teltowkanal
X-ORIGINAL-URL:https://schule-am-teltowkanal.de
X-WR-CALDESC:Veranstaltungen für Schule am Teltowkanal
REFRESH-INTERVAL;VALUE=DURATION:PT1H
X-Robots-Tag:noindex
X-PUBLISHED-TTL:PT1H
BEGIN:VTIMEZONE
TZID:Europe/Helsinki
BEGIN:DAYLIGHT
TZOFFSETFROM:+0200
TZOFFSETTO:+0300
TZNAME:EEST
DTSTART:20250330T010000
END:DAYLIGHT
BEGIN:STANDARD
TZOFFSETFROM:+0300
TZOFFSETTO:+0200
TZNAME:EET
DTSTART:20251026T010000
END:STANDARD
BEGIN:DAYLIGHT
TZOFFSETFROM:+0200
TZOFFSETTO:+0300
TZNAME:EEST
DTSTART:20260329T010000
END:DAYLIGHT
BEGIN:STANDARD
TZOFFSETFROM:+0300
TZOFFSETTO:+0200
TZNAME:EET
DTSTART:20261025T010000
END:STANDARD
BEGIN:DAYLIGHT
TZOFFSETFROM:+0200
TZOFFSETTO:+0300
TZNAME:EEST
DTSTART:20270328T010000
END:DAYLIGHT
BEGIN:STANDARD
TZOFFSETFROM:+0300
TZOFFSETTO:+0200
TZNAME:EET
DTSTART:20271031T010000
END:STANDARD
END:VTIMEZONE
BEGIN:VEVENT
DTSTART;TZID=Europe/Helsinki:20260421T080000
DTEND;TZID=Europe/Helsinki:20260421T090000
DTSTAMP:20260421T023551
CREATED:20260113T075110Z
LAST-MODIFIED:20260303T062801Z
UID:8219-1776758400-1776762000@schule-am-teltowkanal.de
SUMMARY:Elterncafé
DESCRIPTION:Jeden Dienstag von 8:00 – 9:00 findet unser Elterncafé in Zusammenarbeit der Stadtteilmütter (Türkisch\, Arabisch\, Rumänisch) mit der Schulsozialarbeit statt. Wir kommen gemütlich in den Räumen der Schulsozialarbeit oder bei schönem Wetter draußen auf den Bänken vorm Klettergerüst zusammen und tauschen uns aus und unterstützen bei Fragen. Die Stadtteilmütter unterstützen mit ihrem Wissen\, ihren Erfahrungen und mit Übersetzung. \nAlle Angehörigen sind jederzeit herzlich eingeladen vorbeizukommen!
URL:https://schule-am-teltowkanal.de/veranstaltungen/elterncafe-10/
CATEGORIES:Schule am Teltowkanal
END:VEVENT
END:VCALENDAR